BEGIN:VCALENDAR
VERSION:2.0
BEGIN:VEVENT
DTSTART;TZID=Europe/Stockholm:20240508T103000
DTEND;TZID=Europe/Stockholm:20240508T113000
DTSTAMP:20260421T090903
DESCRIPTION:Vi ber till klockan 11:30
SEQUENCE:0
SUMMARY:BÖN
UID:2652@lawebb.se
END:VEVENT
END:VCALENDAR