BEGIN:VCALENDAR
VERSION:2.0
BEGIN:VEVENT
DTSTART;TZID=Europe/Stockholm:20240811T103000
DTEND;TZID=Europe/Stockholm:20240811T113000
DTSTAMP:20260421T035318
DESCRIPTION:
SEQUENCE:0
SUMMARY:GUDSTJÅNST
UID:8678@lawebb.se
END:VEVENT
END:VCALENDAR