BEGIN:VCALENDAR
VERSION:2.0
BEGIN:VEVENT
DTSTART;TZID=Europe/Stockholm:20240915T103000
DTEND;TZID=Europe/Stockholm:20240915T113000
DTSTAMP:20260421T015205
DESCRIPTION:
SEQUENCE:0
SUMMARY:GUDSTJÅNST
UID:9233@lawebb.se
END:VEVENT
END:VCALENDAR