BEGIN:VCALENDAR
VERSION:2.0
BEGIN:VEVENT
DTSTART;TZID=Europe/Stockholm:20241006T103000
DTEND;TZID=Europe/Stockholm:20241006T113000
DTSTAMP:20260421T000414
DESCRIPTION:
SEQUENCE:0
SUMMARY:GUDSTJÅNST
UID:4722@lawebb.se
END:VEVENT
END:VCALENDAR