BEGIN:VCALENDAR
VERSION:2.0
BEGIN:VEVENT
DTSTART;TZID=Europe/Stockholm:20241020T103000
DTEND;TZID=Europe/Stockholm:20241020T113000
DTSTAMP:20260421T000632
DESCRIPTION:
SEQUENCE:0
SUMMARY:GUDSTJÅNST
UID:5279@lawebb.se
END:VEVENT
END:VCALENDAR