BEGIN:VCALENDAR
VERSION:2.0
BEGIN:VEVENT
DTSTART;TZID=Europe/Stockholm:20241027T103000
DTEND;TZID=Europe/Stockholm:20241027T113000
DTSTAMP:20260421T000413
DESCRIPTION:
SEQUENCE:0
SUMMARY:GUDSTJÅNST
UID:4637@lawebb.se
END:VEVENT
END:VCALENDAR