BEGIN:VCALENDAR
VERSION:2.0
BEGIN:VEVENT
DTSTART;TZID=Europe/Stockholm:20250115T103000
DTEND;TZID=Europe/Stockholm:20250115T113000
DTSTAMP:20260420T190047
DESCRIPTION:Vi ber till klockan 11:30.
SEQUENCE:0
SUMMARY:BÖN
UID:9283@lawebb.se
END:VEVENT
END:VCALENDAR