BEGIN:VCALENDAR
VERSION:2.0
BEGIN:VEVENT
DTSTART;TZID=Europe/Stockholm:20250115T180000
DTEND;TZID=Europe/Stockholm:20250115T190000
DTSTAMP:20260420T190046
DESCRIPTION:
SEQUENCE:0
SUMMARY:BÖNEKVÄLL I BETELKYRKAN
UID:6225@lawebb.se
END:VEVENT
END:VCALENDAR