BEGIN:VCALENDAR
VERSION:2.0
BEGIN:VEVENT
DTSTART;TZID=Europe/Stockholm:20250117T180000
DTEND;TZID=Europe/Stockholm:20250117T190000
DTSTAMP:20260420T190047
DESCRIPTION:Sång av Sara Eriksson m.fl.
SEQUENCE:0
SUMMARY:BÖNEKVÄLL I PINGSTKYRKAN
UID:3448@lawebb.se
END:VEVENT
END:VCALENDAR