BEGIN:VCALENDAR
VERSION:2.0
BEGIN:VEVENT
DTSTART;TZID=Europe/Stockholm:20250118T180000
DTEND;TZID=Europe/Stockholm:20250118T190000
DTSTAMP:20260420T190046
DESCRIPTION:
SEQUENCE:0
SUMMARY:BÖNEKVÄLL I ALLIANSKYRKAN
UID:7526@lawebb.se
END:VEVENT
END:VCALENDAR