BEGIN:VCALENDAR
VERSION:2.0
BEGIN:VEVENT
DTSTART;TZID=Europe/Stockholm:20250119T103000
DTEND;TZID=Europe/Stockholm:20250119T113000
DTSTAMP:20260420T190047
DESCRIPTION:Predikan Jörgen Eklund, präst i Svenska Kyrkan.
Sång och musik av Emil F m.fl. ungdomar.
Sång/lovsång, predikan, bön/förbön och gemenskap. 
#Kyrkkaffe efter gudstjänsten.# 
*Alla varmt välkomna!*
SEQUENCE:0
SUMMARY:GUDSTJÄNST
UID:6693@lawebb.se
END:VEVENT
END:VCALENDAR