BEGIN:VCALENDAR
VERSION:2.0
BEGIN:VEVENT
DTSTART;TZID=Europe/Stockholm:20250120T000000
DTEND;TZID=Europe/Stockholm:20250120T240000
DTSTAMP:20260420T190107
DESCRIPTION:Efter vår ekumeniska bönevecka fortsätter vi i Pingstkyrkan ytterligare en vecka. Vi ber lite olika tider den 20 Januari till den 26 Januari.
Se nedan i kalendern
SEQUENCE:0
SUMMARY:BÖNEVECKA I PINGSTKYRKAN
UID:2692@lawebb.se
END:VEVENT
END:VCALENDAR