BEGIN:VCALENDAR
VERSION:2.0
BEGIN:VEVENT
DTSTART;TZID=Europe/Stockholm:20250120T190000
DTEND;TZID=Europe/Stockholm:20250120T200000
DTSTAMP:20260420T190046
DESCRIPTION:19:00 till 20:00
SEQUENCE:0
SUMMARY:BÖN
UID:6938@lawebb.se
END:VEVENT
END:VCALENDAR