BEGIN:VCALENDAR
VERSION:2.0
BEGIN:VEVENT
DTSTART;TZID=Europe/Stockholm:20250121T120000
DTEND;TZID=Europe/Stockholm:20250121T130000
DTSTAMP:20260420T190046
DESCRIPTION:12:00 till 13:00
SEQUENCE:0
SUMMARY:BÖN
UID:6353@lawebb.se
END:VEVENT
END:VCALENDAR