BEGIN:VCALENDAR
VERSION:2.0
BEGIN:VEVENT
DTSTART;TZID=Europe/Stockholm:20250121T150000
DTEND;TZID=Europe/Stockholm:20250121T160000
DTSTAMP:20260420T190047
DESCRIPTION:Pingstkyrkan ansvarar.
SEQUENCE:0
SUMMARY:ANDAKT PÅ ÅSIKTEN
UID:2522@lawebb.se
END:VEVENT
END:VCALENDAR