BEGIN:VCALENDAR
VERSION:2.0
BEGIN:VEVENT
DTSTART;TZID=Europe/Stockholm:20250122T103000
DTEND;TZID=Europe/Stockholm:20250122T113000
DTSTAMP:20260420T190039
DESCRIPTION:10:30 till 11:30
SEQUENCE:0
SUMMARY:BÖN
UID:6659@lawebb.se
END:VEVENT
END:VCALENDAR