BEGIN:VCALENDAR
VERSION:2.0
BEGIN:VEVENT
DTSTART;TZID=Europe/Stockholm:20250123T210000
DTEND;TZID=Europe/Stockholm:20250123T220000
DTSTAMP:20260420T190038
DESCRIPTION:21:00 till 22:00
SEQUENCE:0
SUMMARY:BÖN
UID:5535@lawebb.se
END:VEVENT
END:VCALENDAR