BEGIN:VCALENDAR
VERSION:2.0
BEGIN:VEVENT
DTSTART;TZID=Europe/Stockholm:20250124T150000
DTEND;TZID=Europe/Stockholm:20250124T160000
DTSTAMP:20260420T190039
DESCRIPTION:15:00 till 16:00
SEQUENCE:0
SUMMARY:BÖN
UID:3229@lawebb.se
END:VEVENT
END:VCALENDAR