BEGIN:VCALENDAR
VERSION:2.0
BEGIN:VEVENT
DTSTART;TZID=Europe/Stockholm:20250126T103000
DTEND;TZID=Europe/Stockholm:20250126T113000
DTSTAMP:20260420T190047
DESCRIPTION:Predikan av Christian Andersson med temat &#34;Helig Ande gör Jesus levande för oss.&#34;
Sång och musik av Team Markus H mfl.
Sång/lovsång, predikan, bön/förbön och gemenskap. 
#Kyrkkaffe efter gudstjänsten.# 
*Alla varmt välkomna!*
SEQUENCE:0
SUMMARY:GUDSTJÄNST
UID:7583@lawebb.se
END:VEVENT
END:VCALENDAR