BEGIN:VCALENDAR
VERSION:2.0
BEGIN:VEVENT
DTSTART;TZID=Europe/Stockholm:20250126T170000
DTEND;TZID=Europe/Stockholm:20250126T180000
DTSTAMP:20260420T190039
DESCRIPTION:17:00 till 18:00
SEQUENCE:0
SUMMARY:BÖN
UID:5963@lawebb.se
END:VEVENT
END:VCALENDAR