BEGIN:VCALENDAR
VERSION:2.0
BEGIN:VEVENT
DTSTART;TZID=Europe/Stockholm:20250202T103000
DTEND;TZID=Europe/Stockholm:20250202T113000
DTSTAMP:20260420T173910
DESCRIPTION:Predikan av Christian Andersson med temat &#34;Vem är den Helige Ande&#34;
Sång och musik av Team Ing-Marie Adolfsson.
Sång/lovsång, predikan, bön/förbön och gemenskap. 
#Kyrkkaffe efter gudstjänsten.# 
*Alla varmt välkomna!*
SEQUENCE:0
SUMMARY:GUDSTJÄNST MED NATTVARD
UID:8227@lawebb.se
END:VEVENT
END:VCALENDAR