BEGIN:VCALENDAR
VERSION:2.0
BEGIN:VEVENT
DTSTART;TZID=Europe/Stockholm:20250209T103000
DTEND;TZID=Europe/Stockholm:20250209T113000
DTSTAMP:20260420T173938
DESCRIPTION:Temat för gudstjänsten är &#34;Att vara ledd av den Helige Ande&#34;
Sara Eriksson och BUS-bandet medverkar.
#Kyrkkaffe efter gudstjänsten.# 
*Alla varmt välkomna!*
SEQUENCE:0
SUMMARY:TILLSAMMANSGUDSTJÄNST
UID:4299@lawebb.se
END:VEVENT
END:VCALENDAR