BEGIN:VCALENDAR
VERSION:2.0
BEGIN:VEVENT
DTSTART;TZID=Europe/Stockholm:20250216T103000
DTEND;TZID=Europe/Stockholm:20250216T113000
DTSTAMP:20260420T173939
DESCRIPTION:Predikan av Donald Johannesson med temat &#34;Andens Frukter&#34;
Sång och musik av Tim Axelsson och Alexandra Heine.
Sång/lovsång, predikan, bön/förbön och gemenskap. 
#Kyrkkaffe efter gudstjänsten.# 
*Alla varmt välkomna!*
SEQUENCE:0
SUMMARY:GUDSTJÄNST
UID:3869@lawebb.se
END:VEVENT
END:VCALENDAR