BEGIN:VCALENDAR
VERSION:2.0
BEGIN:VEVENT
DTSTART;TZID=Europe/Stockholm:20250223T103000
DTEND;TZID=Europe/Stockholm:20250223T113000
DTSTAMP:20260420T173938
DESCRIPTION:Predikan av Emil Frick med temat &#34;Andens Gåvor&#34;
Sång och musik av Therese Hasselgren med flera.
Sång/lovsång, predikan, bön/förbön och gemenskap. 
#Kyrkkaffe efter gudstjänsten.# 
*Alla varmt välkomna!*
SEQUENCE:0
SUMMARY:GUDSTJÄNST MED DOP
UID:9525@lawebb.se
END:VEVENT
END:VCALENDAR