BEGIN:VCALENDAR
VERSION:2.0
BEGIN:VEVENT
DTSTART;TZID=Europe/Stockholm:20250225T150000
DTEND;TZID=Europe/Stockholm:20250225T160000
DTSTAMP:20260420T173937
DESCRIPTION:Inställt på grund av ombyggnad.
SEQUENCE:0
SUMMARY:INSTÄLLD ANDAKT PÅ BRUNNSGÅRDEN
UID:2626@lawebb.se
END:VEVENT
END:VCALENDAR