BEGIN:VCALENDAR
VERSION:2.0
BEGIN:VEVENT
DTSTART;TZID=Europe/Stockholm:20250301T110000
DTEND;TZID=Europe/Stockholm:20250301T120000
DTSTAMP:20260420T160902
DESCRIPTION:På Lördag samlas vi i kapellet Bytesplatsen i Ivla för trevlig gemenskap och möjlighet att utföra något hantverk - virka, snickra, måla eller lite vad som helst som du själv känner för.
Lunch serveras till självkostnadspris.
*Varmt välkomna!*
SEQUENCE:0
SUMMARY:SKAPARDAG I IVLA
UID:2367@lawebb.se
END:VEVENT
END:VCALENDAR