BEGIN:VCALENDAR
VERSION:2.0
BEGIN:VEVENT
DTSTART;TZID=Europe/Stockholm:20250316T103000
DTEND;TZID=Europe/Stockholm:20250316T113000
DTSTAMP:20260420T160754
DESCRIPTION:Sara Eriksson och BUS-bandet medverkar.
#Kyrkkaffe efter gudstjänsten.# 
*Alla varmt välkomna!*
SEQUENCE:0
SUMMARY:TILLSAMMANSGUDSTJÄNST
UID:6264@lawebb.se
END:VEVENT
END:VCALENDAR