BEGIN:VCALENDAR
VERSION:2.0
BEGIN:VEVENT
DTSTART;TZID=Europe/Stockholm:20250329T190000
DTEND;TZID=Europe/Stockholm:20250329T200000
DTSTAMP:20260420T160902
DESCRIPTION:Kyrksalen 19:00 TILL 21:00.
Bokat av Ragnar
SEQUENCE:0
SUMMARY:UPPKOPPLING LJUD INFÖR SÖNDAGEN
UID:4495@lawebb.se
END:VEVENT
END:VCALENDAR