BEGIN:VCALENDAR
VERSION:2.0
BEGIN:VEVENT
DTSTART;TZID=Europe/Stockholm:20250330T103000
DTEND;TZID=Europe/Stockholm:20250330T113000
DTSTAMP:20260420T160754
DESCRIPTION:Predikan av Christian Andersson över ämnet:
*Vem är jag inför en god, kärleksfull och helig Gud*
Sång och musik av team Ing-Marie Adolfsson.
Efter gudstjänsten firar vi barnens födelsedagar med födelsedagskalas under fikastunden!
Sång/lovsång, predikan, bön/förbön och gemenskap. 
#Kyrkkaffe efter gudstjänsten.# 
*Alla varmt välkomna!*
SEQUENCE:0
SUMMARY:GUDSTJÄNST
UID:3465@lawebb.se
END:VEVENT
END:VCALENDAR