BEGIN:VCALENDAR
VERSION:2.0
BEGIN:VEVENT
DTSTART;TZID=Europe/Stockholm:20250406T103000
DTEND;TZID=Europe/Stockholm:20250406T113000
DTSTAMP:20260420T143703
DESCRIPTION:Predikan av Christian Andersson över ämnet:
*Vem är jag inför en god, kärleksfull och helig Gud*
Sång och musik av Emil Frick, Tim Axelsson och Miriam Ericsson.
Vi får också lite information om Nehemja. 
Sång/lovsång, predikan, bön/förbön och gemenskap. 
#Kyrkkaffe efter gudstjänsten.# 
*Alla varmt välkomna!*
SEQUENCE:0
SUMMARY:GUDSTJÄNST MED NATTVARD
UID:8293@lawebb.se
END:VEVENT
END:VCALENDAR