BEGIN:VCALENDAR
VERSION:2.0
BEGIN:VEVENT
DTSTART;TZID=Europe/Stockholm:20250413T103000
DTEND;TZID=Europe/Stockholm:20250413T113000
DTSTAMP:20260420T143709
DESCRIPTION:Sara Eriksson och BUS-bandet medverkar.
#Kyrkkaffe efter gudstjänsten.# 
*Alla varmt välkomna!*
SEQUENCE:0
SUMMARY:TILLSAMMANSGUDSTJÄNST MED BARNSAMARITEN
UID:6644@lawebb.se
END:VEVENT
END:VCALENDAR