BEGIN:VCALENDAR
VERSION:2.0
BEGIN:VEVENT
DTSTART;TZID=Europe/Stockholm:20250417T190000
DTEND;TZID=Europe/Stockholm:20250417T200000
DTSTAMP:20260420T143709
DESCRIPTION:Gemensam gudstjänst med Pingstkyrkan, Betelkyrkan och Pingstkyrkan.
SEQUENCE:0
SUMMARY:GETSEMANESTUND I ALLIANSKYRKAN
UID:6625@lawebb.se
END:VEVENT
END:VCALENDAR