BEGIN:VCALENDAR
VERSION:2.0
BEGIN:VEVENT
DTSTART;TZID=Europe/Stockholm:20250418T103000
DTEND;TZID=Europe/Stockholm:20250418T113000
DTSTAMP:20260420T143709
DESCRIPTION:Predikan av Christian Andersson.
Sång och musik av Jennifer Bergström med flera.
SEQUENCE:0
SUMMARY:LÅNGFREDAGSGUDSTJÄNST
UID:4758@lawebb.se
END:VEVENT
END:VCALENDAR