BEGIN:VCALENDAR
VERSION:2.0
BEGIN:VEVENT
DTSTART;TZID=Europe/Stockholm:20250420T103000
DTEND;TZID=Europe/Stockholm:20250420T113000
DTSTAMP:20260420T143709
DESCRIPTION:Dialogpredikan av Christian Andersson och Alexander Backlund.
Sång och musik av Percy Bergman och Therese Hasselgren. 
Dessutom meverkar vår barnkör under ledning av Sara Eriksson.
Sång/lovsång, predikan, bön/förbön och gemenskap. 
#Kyrkkaffe efter gudstjänsten.# 
*Alla varmt välkomna!*
SEQUENCE:0
SUMMARY:PÅSKDAGSGUDSTJÄNST
UID:2474@lawebb.se
END:VEVENT
END:VCALENDAR