BEGIN:VCALENDAR
VERSION:2.0
BEGIN:VEVENT
DTSTART;TZID=Europe/Stockholm:20250420T103000
DTEND;TZID=Europe/Stockholm:20250420T113000
DTSTAMP:20260420T143709
DESCRIPTION:Söndax och bibelklubben är det varje Söndagsgudstjänst under våren.Undantaget är våra Tillsammansgudstjänster då barn och vuxna är tillsammans på gudstjänsten
SEQUENCE:0
SUMMARY:SÖNDAX OCH BIBELKLUBBEN
UID:6627@lawebb.se
END:VEVENT
END:VCALENDAR