BEGIN:VCALENDAR
VERSION:2.0
BEGIN:VEVENT
DTSTART;TZID=Europe/Stockholm:20250504T103000
DTEND;TZID=Europe/Stockholm:20250504T113000
DTSTAMP:20260420T131412
DESCRIPTION:Predikan av Helen Olsson.
Sång och musik med kör från Strömsnäsbruk under ledning av Therese Hasselgren.
Efter gudstjänst och nattvard blir det   lunch och församlingsmöte.
Sång/lovsång, predikan, bön/förbön och gemenskap. 
#Kyrkkaffe efter gudstjänsten.# 
*Alla varmt välkomna!*
SEQUENCE:0
SUMMARY:GUDSTJÄNST MED NATTVARD OCH FÖRSAMLLINGSMÖTE
UID:3654@lawebb.se
END:VEVENT
END:VCALENDAR