BEGIN:VCALENDAR
VERSION:2.0
BEGIN:VEVENT
DTSTART;TZID=Europe/Stockholm:20250511T103000
DTEND;TZID=Europe/Stockholm:20250511T113000
DTSTAMP:20260420T131434
DESCRIPTION:Predikan av Mattias Olsson.
Sång och musik av Tim Axelsson och Alexandra.
Sång/lovsång, predikan, bön/förbön och gemenskap. 
#Kyrkkaffe efter gudstjänsten.# 
*Alla varmt välkomna!*
SEQUENCE:0
SUMMARY:GUDSTJÄNST
UID:5933@lawebb.se
END:VEVENT
END:VCALENDAR