BEGIN:VCALENDAR
VERSION:2.0
BEGIN:VEVENT
DTSTART;TZID=Europe/Stockholm:20250518T103000
DTEND;TZID=Europe/Stockholm:20250518T113000
DTSTAMP:20260420T131435
DESCRIPTION:Sara Eriksson och BUS-bandet medverkar.
#Kyrkkaffe efter gudstjänsten.# 
*Alla varmt välkomna!*
SEQUENCE:0
SUMMARY:TILLSAMMANSGUDSTJÄNST
UID:5754@lawebb.se
END:VEVENT
END:VCALENDAR