BEGIN:VCALENDAR
VERSION:2.0
BEGIN:VEVENT
DTSTART;TZID=Europe/Stockholm:20250525T103000
DTEND;TZID=Europe/Stockholm:20250525T113000
DTSTAMP:20260420T131435
DESCRIPTION:Sång och musik av team Olivia Andersson.
Dialogpredikan av Christian och Emil.
Sång/lovsång, predikan, bön/förbön och gemenskap. 
#Kyrkkaffe efter gudstjänsten.# 
*Alla varmt välkomna!*
SEQUENCE:0
SUMMARY:GUDSTJÄNST MED KONFIRMATIONSHÖGTID
UID:4247@lawebb.se
END:VEVENT
END:VCALENDAR