BEGIN:VCALENDAR
VERSION:2.0
BEGIN:VEVENT
DTSTART;TZID=Europe/Stockholm:20250531T103000
DTEND;TZID=Europe/Stockholm:20250531T113000
DTSTAMP:20260420T131434
DESCRIPTION:Välkommen till en skapandedag . Alla typer av kreativitet är välkomna. Målning, snida i trä, sticka eller vad du vill. Vi uppmuntrar varandra och hjälper varandra och har trevligt tillsammans.
Fika serveras.
Varmt välkomna denna lördag till Bytetsplatsen.
Ingen anmälan krävs.
SEQUENCE:0
SUMMARY:SKAPARDAG, BYTESPLATSEN I IVLA
UID:9643@lawebb.se
END:VEVENT
END:VCALENDAR