BEGIN:VCALENDAR
VERSION:2.0
BEGIN:VEVENT
DTSTART;TZID=Europe/Stockholm:20250531T183000
DTEND;TZID=Europe/Stockholm:20250531T193000
DTSTAMP:20260420T131434
DESCRIPTION:Ungdomssamling till ca 00.00.
SEQUENCE:0
SUMMARY:AWAKEN
UID:6442@lawebb.se
END:VEVENT
END:VCALENDAR