BEGIN:VCALENDAR
VERSION:2.0
BEGIN:VEVENT
DTSTART;TZID=Europe/Stockholm:20250601T100000
DTEND;TZID=Europe/Stockholm:20250601T110000
DTSTAMP:20260420T114536
DESCRIPTION:Varmt välkomna till Betelkyrkan denna söndag. De sista gudstjänsterna tillsammans med Betel har varit en fest så låt oss sluta upp alla vi som kan i Pingstkyrkan, så att denna gudstjänst också blir något extra.
SEQUENCE:0
SUMMARY:GEMENSAM GUDSTJÄNST I BETELKYRKAN
UID:7528@lawebb.se
END:VEVENT
END:VCALENDAR