BEGIN:VCALENDAR
VERSION:2.0
BEGIN:VEVENT
DTSTART;TZID=Europe/Stockholm:20250606T100000
DTEND;TZID=Europe/Stockholm:20250606T110000
DTSTAMP:20260420T114535
DESCRIPTION:Ekumenisk nationaldags bön i Allianskyrkan. .
SEQUENCE:0
SUMMARY:EKUMENISK BÖN I ALLIANSKYRKAN
UID:7356@lawebb.se
END:VEVENT
END:VCALENDAR