BEGIN:VCALENDAR
VERSION:2.0
BEGIN:VEVENT
DTSTART;TZID=Europe/Stockholm:20250608T103000
DTEND;TZID=Europe/Stockholm:20250608T113000
DTSTAMP:20260420T114536
DESCRIPTION:Predikan av Peter Jansson.
Sång av Timothy, Jonathan, Fredrik och Jennifer.
Gudstjänst med Söndax och bibelklubbsavslutning! 
Korvgrillning efter gudstjänsten för alla! 
Sång/lovsång, predikan, bön/förbön och gemenskap. 
*Alla varmt välkomna!*
SEQUENCE:0
SUMMARY:GUDSTJÄNST MED NATTVARD
UID:5973@lawebb.se
END:VEVENT
END:VCALENDAR