BEGIN:VCALENDAR
VERSION:2.0
BEGIN:VEVENT
DTSTART;TZID=Europe/Stockholm:20250622T103000
DTEND;TZID=Europe/Stockholm:20250622T113000
DTSTAMP:20260420T114536
DESCRIPTION:Vi får åter glädjen att döpa 4 stycken ungdomar som önskar följa Jesus. Gudstjänsten blir en dop- och lovsångsgudstjänst.
*Varmt välkomna att vara med denna glädjefyllda gudstjänst!*
SEQUENCE:0
SUMMARY:DOPGUDSTJÄNST OCH LOVSÅNG
UID:7982@lawebb.se
END:VEVENT
END:VCALENDAR