BEGIN:VCALENDAR
VERSION:2.0
BEGIN:VEVENT
DTSTART;TZID=Europe/Stockholm:20250623T000000
DTEND;TZID=Europe/Stockholm:20250623T240000
DTSTAMP:20260420T114536
DESCRIPTION:Måndagar till fredagar i vecka 26, Andakter från Pingstkyrkan på Närradion.
Denna vecka ansvarar Pingstkyrkan för dagliga korta andakter på Radio Centrum, Pingstkyrkans Närradio, 95,8 mHz. Sändningen startar klockan 06.15, 08.30, 22.00.
SEQUENCE:0
SUMMARY:ANDAKTER PÅ NÄRRADION
UID:8484@lawebb.se
END:VEVENT
END:VCALENDAR