BEGIN:VCALENDAR
VERSION:2.0
BEGIN:VEVENT
DTSTART;TZID=Europe/Stockholm:20250626T000000
DTEND;TZID=Europe/Stockholm:20250626T240000
DTSTAMP:20260420T114536
DESCRIPTION:Barnlägret pågår torsdagen den 26 juni till söndagen den 29 juni. 
Se under fliken #Barn och ungdom/sommarläger#.
SEQUENCE:0
SUMMARY:BARNLÄGER PÅ SUNNERBOGÅRDEN
UID:3584@lawebb.se
END:VEVENT
END:VCALENDAR