BEGIN:VCALENDAR
VERSION:2.0
BEGIN:VEVENT
DTSTART;TZID=Europe/Stockholm:20250629T103000
DTEND;TZID=Europe/Stockholm:20250629T113000
DTSTAMP:20260420T114512
DESCRIPTION:Predikan av Kjell Ström från Tannåker.
Sång av Markus med flera.
Sång/lovsång, predikan, bön/förbön och gemenskap. 
#Kyrkkaffe efter gudstjänsten.# 
*Alla varmt välkomna!*
SEQUENCE:0
SUMMARY:GUDSTJÄNST
UID:3656@lawebb.se
END:VEVENT
END:VCALENDAR