BEGIN:VCALENDAR
VERSION:2.0
BEGIN:VEVENT
DTSTART;TZID=Europe/Stockholm:20250706T100000
DTEND;TZID=Europe/Stockholm:20250706T110000
DTSTAMP:20260420T101140
DESCRIPTION:Gemensam Gudstjänst i Allianskyrkan
SEQUENCE:0
SUMMARY:GUDSTJÄNST I ALLIANSKYRKAN
UID:5357@lawebb.se
END:VEVENT
END:VCALENDAR