BEGIN:VCALENDAR
VERSION:2.0
BEGIN:VEVENT
DTSTART;TZID=Europe/Stockholm:20250713T100000
DTEND;TZID=Europe/Stockholm:20250713T110000
DTSTAMP:20260420T101139
DESCRIPTION:Gemensam gudstjänst i Betelkyrkan.
SEQUENCE:0
SUMMARY:GEMENSAM GUDSTJÄNST I BETELKYRKAN
UID:8883@lawebb.se
END:VEVENT
END:VCALENDAR